BEGIN:VCALENDAR
VERSION:2.0
PRODID:-//Australian Education Union ACT Branch - ECPv6.15.20//NONSGML v1.0//EN
CALSCALE:GREGORIAN
METHOD:PUBLISH
X-WR-CALNAME:Australian Education Union ACT Branch
X-ORIGINAL-URL:https://www.aeuact.org.au
X-WR-CALDESC:Events for Australian Education Union ACT Branch
REFRESH-INTERVAL;VALUE=DURATION:PT1H
X-Robots-Tag:noindex
X-PUBLISHED-TTL:PT1H
BEGIN:VTIMEZONE
TZID:Australia/Sydney
BEGIN:STANDARD
TZOFFSETFROM:+1100
TZOFFSETTO:+1000
TZNAME:AEST
DTSTART:20240406T160000
END:STANDARD
BEGIN:DAYLIGHT
TZOFFSETFROM:+1000
TZOFFSETTO:+1100
TZNAME:AEDT
DTSTART:20241005T160000
END:DAYLIGHT
BEGIN:STANDARD
TZOFFSETFROM:+1100
TZOFFSETTO:+1000
TZNAME:AEST
DTSTART:20250405T160000
END:STANDARD
BEGIN:DAYLIGHT
TZOFFSETFROM:+1000
TZOFFSETTO:+1100
TZNAME:AEDT
DTSTART:20251004T160000
END:DAYLIGHT
BEGIN:STANDARD
TZOFFSETFROM:+1100
TZOFFSETTO:+1000
TZNAME:AEST
DTSTART:20260404T160000
END:STANDARD
BEGIN:DAYLIGHT
TZOFFSETFROM:+1000
TZOFFSETTO:+1100
TZNAME:AEDT
DTSTART:20261003T160000
END:DAYLIGHT
END:VTIMEZONE
BEGIN:VEVENT
DTSTART;TZID=Australia/Sydney:20250627T180000
DTEND;TZID=Australia/Sydney:20250627T233000
DTSTAMP:20260425T130234
CREATED:20250506T015440Z
LAST-MODIFIED:20250506T015440Z
UID:105919-1751047200-1751067000@www.aeuact.org.au
SUMMARY:2025 AEU Awards Night
DESCRIPTION:Join us for a night of celebration on Friday 27 June \nThe 2025 AEU Awards Night is an evening dedicated to celebrating the outstanding achievements and contributions of our members. \nWe’re excited to present a fresh approach to our annual awards ceremony. This year’s event offers: \n\nMore awards: expanded categories that celebrate the diversity of our membership\nNew timing: end of term 2 means more members can participate\nNew format: cocktail-style event with substantial canapes and open bar (followed by a cash bar later in the evening)\nNew venue: Join us at Lucky’s\, Canberra’s premier prohibition-style speakeasy\n\n  \nSecure your place \n\nEarly bird tickets: $60 (available until 31 May)\nStandard tickets: $80 (from 1 June)\nTicket sales close: 13 June (unless sold out earlier)\n\n  \nConnect with colleagues\, celebrate achievements\, and enjoy an evening that recognises the heart of our union – our members. \nHow to book \nBook online here or contact the AEU ACT Branch office at aeuact@aeuact.org.au \nBook early to avoid disappointment
URL:https://www.aeuact.org.au/event/2025-aeu-awards-night/
LOCATION:QT Canberra\, 1 London Circuit\, Canberra\, Australia
ATTACH;FMTTYPE=image/jpeg:https://www.aeuact.org.au/wp-content/uploads/2025/05/2025-Awards-night-poster.jpg
END:VEVENT
END:VCALENDAR