BEGIN:VCALENDAR
VERSION:2.0
PRODID:-//Australian Education Union ACT Branch - ECPv6.15.20//NONSGML v1.0//EN
CALSCALE:GREGORIAN
METHOD:PUBLISH
X-WR-CALNAME:Australian Education Union ACT Branch
X-ORIGINAL-URL:https://www.aeuact.org.au
X-WR-CALDESC:Events for Australian Education Union ACT Branch
REFRESH-INTERVAL;VALUE=DURATION:PT1H
X-Robots-Tag:noindex
X-PUBLISHED-TTL:PT1H
BEGIN:VTIMEZONE
TZID:Australia/Sydney
BEGIN:STANDARD
TZOFFSETFROM:+1100
TZOFFSETTO:+1000
TZNAME:AEST
DTSTART:20240406T160000
END:STANDARD
BEGIN:DAYLIGHT
TZOFFSETFROM:+1000
TZOFFSETTO:+1100
TZNAME:AEDT
DTSTART:20241005T160000
END:DAYLIGHT
BEGIN:STANDARD
TZOFFSETFROM:+1100
TZOFFSETTO:+1000
TZNAME:AEST
DTSTART:20250405T160000
END:STANDARD
BEGIN:DAYLIGHT
TZOFFSETFROM:+1000
TZOFFSETTO:+1100
TZNAME:AEDT
DTSTART:20251004T160000
END:DAYLIGHT
BEGIN:STANDARD
TZOFFSETFROM:+1100
TZOFFSETTO:+1000
TZNAME:AEST
DTSTART:20260404T160000
END:STANDARD
BEGIN:DAYLIGHT
TZOFFSETFROM:+1000
TZOFFSETTO:+1100
TZNAME:AEDT
DTSTART:20261003T160000
END:DAYLIGHT
END:VTIMEZONE
BEGIN:VEVENT
DTSTART;TZID=Australia/Sydney:20251029T090000
DTEND;TZID=Australia/Sydney:20251029T163000
DTSTAMP:20260424T113524
CREATED:20250918T003103Z
LAST-MODIFIED:20250918T003103Z
UID:130759-1761728400-1761755400@www.aeuact.org.au
SUMMARY:2025 Work\, Health and Safety Conference
DESCRIPTION:Attention all health and safety reps. \nJoin us on Wednesday 29 October for this year’s UnionsACT Work\, Health and Safety conference. \nIt is an opportunity to learn from experts in the WHS space\, including from Jacqueline Agius\, WHS Commissioner at WorkSafe ACT. \nRegister now using this link. \n 
URL:https://www.aeuact.org.au/event/2025-work-health-and-safety-conference/
LOCATION:AEU HQ\, 71 Leichhardt Street\, Kingston\, ACT\, 2604\, Australia
ATTACH;FMTTYPE=image/jpeg:https://www.aeuact.org.au/wp-content/uploads/2025/09/Cadeyrn-cropped-scaled.jpg
END:VEVENT
END:VCALENDAR