BEGIN:VCALENDAR
VERSION:2.0
PRODID:-//Australian Education Union ACT Branch - ECPv6.15.20//NONSGML v1.0//EN
CALSCALE:GREGORIAN
METHOD:PUBLISH
X-WR-CALNAME:Australian Education Union ACT Branch
X-ORIGINAL-URL:https://www.aeuact.org.au
X-WR-CALDESC:Events for Australian Education Union ACT Branch
REFRESH-INTERVAL;VALUE=DURATION:PT1H
X-Robots-Tag:noindex
X-PUBLISHED-TTL:PT1H
BEGIN:VTIMEZONE
TZID:Australia/Sydney
BEGIN:STANDARD
TZOFFSETFROM:+1100
TZOFFSETTO:+1000
TZNAME:AEST
DTSTART:20240406T160000
END:STANDARD
BEGIN:DAYLIGHT
TZOFFSETFROM:+1000
TZOFFSETTO:+1100
TZNAME:AEDT
DTSTART:20241005T160000
END:DAYLIGHT
BEGIN:STANDARD
TZOFFSETFROM:+1100
TZOFFSETTO:+1000
TZNAME:AEST
DTSTART:20250405T160000
END:STANDARD
BEGIN:DAYLIGHT
TZOFFSETFROM:+1000
TZOFFSETTO:+1100
TZNAME:AEDT
DTSTART:20251004T160000
END:DAYLIGHT
BEGIN:STANDARD
TZOFFSETFROM:+1100
TZOFFSETTO:+1000
TZNAME:AEST
DTSTART:20260404T160000
END:STANDARD
BEGIN:DAYLIGHT
TZOFFSETFROM:+1000
TZOFFSETTO:+1100
TZNAME:AEDT
DTSTART:20261003T160000
END:DAYLIGHT
END:VTIMEZONE
BEGIN:VEVENT
DTSTART;TZID=Australia/Sydney:20250829T090000
DTEND;TZID=Australia/Sydney:20250829T150000
DTSTAMP:20260424T220251
CREATED:20250725T054244Z
LAST-MODIFIED:20250725T054705Z
UID:128022-1756458000-1756479600@www.aeuact.org.au
SUMMARY:Advocacy for Aboriginal and Torres Strait Islander members
DESCRIPTION:Join with other Aboriginal and Torres Strait Islander members for a day devoted to developing and prioritising actions to make our workplaces and our working conditions better and safer. \nThe day will provide opportunities to: \n\ndiscuss workplace challenges and solutions to make our profession more attractive for Aboriginal and Torres Strait Islander educators and support staff\npropose specific claims for inclusion in bargaining for better workplace conditions\ngain insight into our union’s structures and learn how to use these to advocate effectively for Aboriginal and Torres Strait Islander members\nbe empowered to be an effective voice on industrial issues that matter most to Aboriginal and Torres Strait Islander members\n\nAs an AEU member you are entitled to take industrial leave to attend this day. The AEU office will provide you with a letter to support your leave application. Registrations must be received no later than 14 August 2025. \nYou must be an AEU member to attend. If you know a colleague who would like to attend but is not yet an AEU member\, this is a great time to invite them to join. It’s simple. Join online at: https://join.aeuact.org.au/ \n 
URL:https://www.aeuact.org.au/event/advocacy-for-aboriginal-and-torres-strait-islander-members/
LOCATION:AEU HQ\, 71 Leichhardt Street\, Kingston\, ACT\, 2604\, Australia
ATTACH;FMTTYPE=image/jpeg:https://www.aeuact.org.au/wp-content/uploads/2023/05/0530_X1A7897web.jpg
END:VEVENT
END:VCALENDAR