BEGIN:VCALENDAR
VERSION:2.0
PRODID:-//Australian Education Union ACT Branch - ECPv6.15.20//NONSGML v1.0//EN
CALSCALE:GREGORIAN
METHOD:PUBLISH
X-WR-CALNAME:Australian Education Union ACT Branch
X-ORIGINAL-URL:https://www.aeuact.org.au
X-WR-CALDESC:Events for Australian Education Union ACT Branch
REFRESH-INTERVAL;VALUE=DURATION:PT1H
X-Robots-Tag:noindex
X-PUBLISHED-TTL:PT1H
BEGIN:VTIMEZONE
TZID:Australia/Sydney
BEGIN:STANDARD
TZOFFSETFROM:+1100
TZOFFSETTO:+1000
TZNAME:AEST
DTSTART:20230401T160000
END:STANDARD
BEGIN:DAYLIGHT
TZOFFSETFROM:+1000
TZOFFSETTO:+1100
TZNAME:AEDT
DTSTART:20230930T160000
END:DAYLIGHT
BEGIN:STANDARD
TZOFFSETFROM:+1100
TZOFFSETTO:+1000
TZNAME:AEST
DTSTART:20240406T160000
END:STANDARD
BEGIN:DAYLIGHT
TZOFFSETFROM:+1000
TZOFFSETTO:+1100
TZNAME:AEDT
DTSTART:20241005T160000
END:DAYLIGHT
BEGIN:STANDARD
TZOFFSETFROM:+1100
TZOFFSETTO:+1000
TZNAME:AEST
DTSTART:20250405T160000
END:STANDARD
BEGIN:DAYLIGHT
TZOFFSETFROM:+1000
TZOFFSETTO:+1100
TZNAME:AEDT
DTSTART:20251004T160000
END:DAYLIGHT
END:VTIMEZONE
BEGIN:VEVENT
DTSTART;TZID=Australia/Sydney:20240517T173000
DTEND;TZID=Australia/Sydney:20240517T203000
DTSTAMP:20260425T082947
CREATED:20240417T002922Z
LAST-MODIFIED:20240514T052836Z
UID:44376-1715967000-1715977800@www.aeuact.org.au
SUMMARY:AI in Education (Friend or Foe)
DESCRIPTION:Join Professor Genevieve Bell\, Vice Chancellor Australian National University\, Professor Barney Dalgarno\, Dean of Education\, University of Canberra\, and Ms Ruth Carr\, Director Education and Outreach\, CSIRO\, at a public forum to address the benefits and challenges of AI in the education space. \nThis forum should be a fascinating and very informative evening\, of interest to teachers\, students and the general public. \nThis event is presented by the Rotary Club of Canberra Weston Creek. For further info and how to book\, see the link below. \nAI in Education
URL:https://www.aeuact.org.au/event/ai-in-education-friend-or-foe/
LOCATION:Questacon\, King Edward Terrace\, Parkes\, ACT\, 2600\, Australia
ATTACH;FMTTYPE=image/png:https://www.aeuact.org.au/wp-content/uploads/2022/09/A-man-sitting-at-a-computer-which-is-hooked-up-to-an-extra-monitor.png
END:VEVENT
END:VCALENDAR