BEGIN:VCALENDAR
VERSION:2.0
PRODID:-//Australian Education Union ACT Branch - ECPv6.15.20//NONSGML v1.0//EN
CALSCALE:GREGORIAN
METHOD:PUBLISH
X-WR-CALNAME:Australian Education Union ACT Branch
X-ORIGINAL-URL:https://www.aeuact.org.au
X-WR-CALDESC:Events for Australian Education Union ACT Branch
REFRESH-INTERVAL;VALUE=DURATION:PT1H
X-Robots-Tag:noindex
X-PUBLISHED-TTL:PT1H
BEGIN:VTIMEZONE
TZID:Australia/Sydney
BEGIN:STANDARD
TZOFFSETFROM:+1100
TZOFFSETTO:+1000
TZNAME:AEST
DTSTART:20240406T160000
END:STANDARD
BEGIN:DAYLIGHT
TZOFFSETFROM:+1000
TZOFFSETTO:+1100
TZNAME:AEDT
DTSTART:20241005T160000
END:DAYLIGHT
BEGIN:STANDARD
TZOFFSETFROM:+1100
TZOFFSETTO:+1000
TZNAME:AEST
DTSTART:20250405T160000
END:STANDARD
BEGIN:DAYLIGHT
TZOFFSETFROM:+1000
TZOFFSETTO:+1100
TZNAME:AEDT
DTSTART:20251004T160000
END:DAYLIGHT
BEGIN:STANDARD
TZOFFSETFROM:+1100
TZOFFSETTO:+1000
TZNAME:AEST
DTSTART:20260404T160000
END:STANDARD
BEGIN:DAYLIGHT
TZOFFSETFROM:+1000
TZOFFSETTO:+1100
TZNAME:AEDT
DTSTART:20261003T160000
END:DAYLIGHT
END:VTIMEZONE
BEGIN:VEVENT
DTSTART;TZID=Australia/Sydney:20250902T090000
DTEND;TZID=Australia/Sydney:20250902T150000
DTSTAMP:20260424T203916
CREATED:20250728T042434Z
LAST-MODIFIED:20250728T042534Z
UID:128849-1756803600-1756825200@www.aeuact.org.au
SUMMARY:Classroom Management through Effective Teaching
DESCRIPTION:This course is a great opportunity for early career teachers to work with highly experienced and effective educational leaders and colleagues from across the public education system. \nIt is designed for teachers in the early stages of their careers to develop their approach to classroom manangement using effective teaching strategies that engage all students in learning. It will provide you with practical strategies and deeper understanding of the theory and practice of good classroom management and good teaching. \nThe course is provided to AEU ACT members through our agreement with the NSW Teachers Federation Centre for Professional Learning. \nHere is the link to the course details on the CPL website: https://cpl.nswtf.org.au/courses/classroom-management-through-effective-teaching/ \nAEU ACT members can apply online here
URL:https://www.aeuact.org.au/event/classroom-management-through-effective-teaching/
LOCATION:AEU HQ\, 71 Leichhardt Street\, Kingston\, ACT\, 2604\, Australia
ATTACH;FMTTYPE=image/jpeg:https://www.aeuact.org.au/wp-content/uploads/2024/05/0480_X1A7802web.jpg
END:VEVENT
END:VCALENDAR