BEGIN:VCALENDAR
VERSION:2.0
PRODID:-//Australian Education Union ACT Branch - ECPv6.15.20//NONSGML v1.0//EN
CALSCALE:GREGORIAN
METHOD:PUBLISH
X-WR-CALNAME:Australian Education Union ACT Branch
X-ORIGINAL-URL:https://www.aeuact.org.au
X-WR-CALDESC:Events for Australian Education Union ACT Branch
REFRESH-INTERVAL;VALUE=DURATION:PT1H
X-Robots-Tag:noindex
X-PUBLISHED-TTL:PT1H
BEGIN:VTIMEZONE
TZID:Australia/Sydney
BEGIN:STANDARD
TZOFFSETFROM:+1100
TZOFFSETTO:+1000
TZNAME:AEST
DTSTART:20240406T160000
END:STANDARD
BEGIN:DAYLIGHT
TZOFFSETFROM:+1000
TZOFFSETTO:+1100
TZNAME:AEDT
DTSTART:20241005T160000
END:DAYLIGHT
BEGIN:STANDARD
TZOFFSETFROM:+1100
TZOFFSETTO:+1000
TZNAME:AEST
DTSTART:20250405T160000
END:STANDARD
BEGIN:DAYLIGHT
TZOFFSETFROM:+1000
TZOFFSETTO:+1100
TZNAME:AEDT
DTSTART:20251004T160000
END:DAYLIGHT
BEGIN:STANDARD
TZOFFSETFROM:+1100
TZOFFSETTO:+1000
TZNAME:AEST
DTSTART:20260404T160000
END:STANDARD
BEGIN:DAYLIGHT
TZOFFSETFROM:+1000
TZOFFSETTO:+1100
TZNAME:AEDT
DTSTART:20261003T160000
END:DAYLIGHT
END:VTIMEZONE
BEGIN:VEVENT
DTSTART;TZID=Australia/Sydney:20250306T180000
DTEND;TZID=Australia/Sydney:20250306T203000
DTSTAMP:20260424T223729
CREATED:20241212T062852Z
LAST-MODIFIED:20241218T005049Z
UID:105399-1741284000-1741293000@www.aeuact.org.au
SUMMARY:International Women's Day trivia
DESCRIPTION:Join us for a fun-filled evening with food\, drinks and plenty of laughs and test your knowledge of women around the world! You’ll be put to the test across 3 rounds with pop culture\, general knowledge\, sport\, recent events\, women in history and more! Grab your friends\, form a team\, and prepare to be challenged with trivia questions that highlight the achievements\, history\, and contributions of women. It’s a night of laughter\, learning\, and friendly competition. Don’t miss out on this exciting opportunity to celebrate International Women’s Day in style! \nThe 2025 International Women’s Day theme is March Forward. \nThe theme ‘March Forward’ reminds us that progress is not just about reflection but about taking decisive\, bold steps to turn our commitments into action. This is our moment to drive change and ensure a truly equal future for all women and girls. \n 
URL:https://www.aeuact.org.au/event/international-womens-day-trivia-2/
LOCATION:AEU HQ\, 71 Leichhardt Street\, Kingston\, ACT\, 2604\, Australia
CATEGORIES:Women's Network
ATTACH;FMTTYPE=image/jpeg:https://www.aeuact.org.au/wp-content/uploads/2024/12/0507_X1A7851web.jpg
ORGANIZER;CN="Katie Slater":MAILTO:katie.slater@aeuact.org.au
END:VEVENT
END:VCALENDAR