BEGIN:VCALENDAR
VERSION:2.0
PRODID:-//Australian Education Union ACT Branch - ECPv6.15.20//NONSGML v1.0//EN
CALSCALE:GREGORIAN
METHOD:PUBLISH
X-WR-CALNAME:Australian Education Union ACT Branch
X-ORIGINAL-URL:https://www.aeuact.org.au
X-WR-CALDESC:Events for Australian Education Union ACT Branch
REFRESH-INTERVAL;VALUE=DURATION:PT1H
X-Robots-Tag:noindex
X-PUBLISHED-TTL:PT1H
BEGIN:VTIMEZONE
TZID:Australia/Sydney
BEGIN:STANDARD
TZOFFSETFROM:+1100
TZOFFSETTO:+1000
TZNAME:AEST
DTSTART:20230401T160000
END:STANDARD
BEGIN:DAYLIGHT
TZOFFSETFROM:+1000
TZOFFSETTO:+1100
TZNAME:AEDT
DTSTART:20230930T160000
END:DAYLIGHT
BEGIN:STANDARD
TZOFFSETFROM:+1100
TZOFFSETTO:+1000
TZNAME:AEST
DTSTART:20240406T160000
END:STANDARD
BEGIN:DAYLIGHT
TZOFFSETFROM:+1000
TZOFFSETTO:+1100
TZNAME:AEDT
DTSTART:20241005T160000
END:DAYLIGHT
BEGIN:STANDARD
TZOFFSETFROM:+1100
TZOFFSETTO:+1000
TZNAME:AEST
DTSTART:20250405T160000
END:STANDARD
BEGIN:DAYLIGHT
TZOFFSETFROM:+1000
TZOFFSETTO:+1100
TZNAME:AEDT
DTSTART:20251004T160000
END:DAYLIGHT
END:VTIMEZONE
BEGIN:VEVENT
DTSTART;TZID=Australia/Sydney:20240301T083000
DTEND;TZID=Australia/Sydney:20240301T160000
DTSTAMP:20260426T014021
CREATED:20231114T025458Z
LAST-MODIFIED:20240219T223902Z
UID:29477-1709281800-1709308800@www.aeuact.org.au
SUMMARY:New Educator Conference
DESCRIPTION:Get essential advice on your rights and entitlements as a new educator\, grow your network and hear from outstanding experts including Real Schools CEO Adam Voigt\, TQI CEO Lyndall Read\, Director of Workplace Advocacy and Member Support Matthew Peterson. This event includes 3 hours of TQI accredited PL. \nOnce you’ve registered\, make sure you speak to your manager and apply for industrial leave asap. \n  \nAdam Voigt: Thriving In Teaching From The Start \nTeaching these days isn’t easy… but nothing so worthwhile ever has been. \nAdam wants you to have a long\, fruitful and rewarding career in the classroom and\, in this presentation\, he’s determined that you’re pointed in the right direction armed with the tools and tactics that underpin success. Many think that there must be a huge list of “must do’s” for teachers to engage with to thrive in challenging times\, but they’re wrong. \nYou’re going to be surprised by how simple and easy the most impactful strategies for teacher effect and wellbeing really are. \nExpert panel: \nJackie Vaughn – highly experienced and respected principal aat Evelyn Scott School \nMatthew Peterson – lawyer and Director of Workplace advocacy and member support at AEU ACT \nAlex Leon – beginning teacher and First Nations advocate at AEU ACT \nLyndall Ryan – highly experienced and respected school leader\, CEO of TQI \n  \nFollowing the conclusion of the conference at 4pm\, participants are invited to stay for drinks and canapés until 6pm.
URL:https://www.aeuact.org.au/event/new-educator-conference/
LOCATION:East Hotel\, 69 Canberra Ave\, Kingston\, ACT\, 2604\, Australia
ATTACH;FMTTYPE=image/jpeg:https://www.aeuact.org.au/wp-content/uploads/2023/12/405223319_764952322338179_315271596551069303_n.jpg
END:VEVENT
END:VCALENDAR