BEGIN:VCALENDAR
VERSION:2.0
PRODID:-//Australian Education Union ACT Branch - ECPv6.15.20//NONSGML v1.0//EN
CALSCALE:GREGORIAN
METHOD:PUBLISH
X-WR-CALNAME:Australian Education Union ACT Branch
X-ORIGINAL-URL:https://www.aeuact.org.au
X-WR-CALDESC:Events for Australian Education Union ACT Branch
REFRESH-INTERVAL;VALUE=DURATION:PT1H
X-Robots-Tag:noindex
X-PUBLISHED-TTL:PT1H
BEGIN:VTIMEZONE
TZID:Australia/Sydney
BEGIN:STANDARD
TZOFFSETFROM:+1100
TZOFFSETTO:+1000
TZNAME:AEST
DTSTART:20230401T160000
END:STANDARD
BEGIN:DAYLIGHT
TZOFFSETFROM:+1000
TZOFFSETTO:+1100
TZNAME:AEDT
DTSTART:20230930T160000
END:DAYLIGHT
BEGIN:STANDARD
TZOFFSETFROM:+1100
TZOFFSETTO:+1000
TZNAME:AEST
DTSTART:20240406T160000
END:STANDARD
BEGIN:DAYLIGHT
TZOFFSETFROM:+1000
TZOFFSETTO:+1100
TZNAME:AEDT
DTSTART:20241005T160000
END:DAYLIGHT
BEGIN:STANDARD
TZOFFSETFROM:+1100
TZOFFSETTO:+1000
TZNAME:AEST
DTSTART:20250405T160000
END:STANDARD
BEGIN:DAYLIGHT
TZOFFSETFROM:+1000
TZOFFSETTO:+1100
TZNAME:AEDT
DTSTART:20251004T160000
END:DAYLIGHT
END:VTIMEZONE
BEGIN:VEVENT
DTSTART;TZID=Australia/Sydney:20240530T160000
DTEND;TZID=Australia/Sydney:20240530T180000
DTSTAMP:20260425T030126
CREATED:20240319T012030Z
LAST-MODIFIED:20240524T050049Z
UID:35555-1717084800-1717092000@www.aeuact.org.au
SUMMARY:New Educator Network: Report Writing
DESCRIPTION:Our Term 2 New Educator Network is all about surviving report writing season. \nThis fully catered networking opportunity is fun and free for AEU ACT Branch educators in their first three years of teaching. \nJoin us for tips and tricks from experienced educators to build your report writing skills and navigate the challenges associated with assessment and reporting. This session will also include valuable insights on your rights and entitlements as new educators. \nThis event is TQI accredited for 2 hours. \nPlease RSVP by email to ingrid.bean@aeuact.org.au
URL:https://www.aeuact.org.au/event/new-educator-network-report-writing/
LOCATION:AEU HQ\, 71 Leichhardt Street\, Kingston\, ACT\, 2604\, Australia
ATTACH;FMTTYPE=image/jpeg:https://www.aeuact.org.au/wp-content/uploads/2024/03/Oscar-in-full-flight-e1710907192801.jpg
END:VEVENT
END:VCALENDAR