BEGIN:VCALENDAR
VERSION:2.0
PRODID:-//Australian Education Union ACT Branch - ECPv6.15.20//NONSGML v1.0//EN
CALSCALE:GREGORIAN
METHOD:PUBLISH
X-WR-CALNAME:Australian Education Union ACT Branch
X-ORIGINAL-URL:https://www.aeuact.org.au
X-WR-CALDESC:Events for Australian Education Union ACT Branch
REFRESH-INTERVAL;VALUE=DURATION:PT1H
X-Robots-Tag:noindex
X-PUBLISHED-TTL:PT1H
BEGIN:VTIMEZONE
TZID:Australia/Sydney
BEGIN:STANDARD
TZOFFSETFROM:+1100
TZOFFSETTO:+1000
TZNAME:AEST
DTSTART:20240406T160000
END:STANDARD
BEGIN:DAYLIGHT
TZOFFSETFROM:+1000
TZOFFSETTO:+1100
TZNAME:AEDT
DTSTART:20241005T160000
END:DAYLIGHT
BEGIN:STANDARD
TZOFFSETFROM:+1100
TZOFFSETTO:+1000
TZNAME:AEST
DTSTART:20250405T160000
END:STANDARD
BEGIN:DAYLIGHT
TZOFFSETFROM:+1000
TZOFFSETTO:+1100
TZNAME:AEDT
DTSTART:20251004T160000
END:DAYLIGHT
BEGIN:STANDARD
TZOFFSETFROM:+1100
TZOFFSETTO:+1000
TZNAME:AEST
DTSTART:20260404T160000
END:STANDARD
BEGIN:DAYLIGHT
TZOFFSETFROM:+1000
TZOFFSETTO:+1100
TZNAME:AEDT
DTSTART:20261003T160000
END:DAYLIGHT
END:VTIMEZONE
BEGIN:VEVENT
DTSTART;TZID=Australia/Sydney:20250219T160000
DTEND;TZID=Australia/Sydney:20250219T164500
DTSTAMP:20260424T211417
CREATED:20250211T043421Z
LAST-MODIFIED:20250211T225107Z
UID:105494-1739980800-1739983500@www.aeuact.org.au
SUMMARY:Online Delegates' Circle - Be the Voice of Your Sub-Branch!
DESCRIPTION:Join us for our Delegates’ Circle – a 45-minute online huddle with the Branch President and Secretary. This is your chance to get across the key issues shaping our work this year and connect with fellow reps. \nWhat we’ll cover:\n✅ Why sub-branch reps are our most important leaders – and how we’re backing you in the role.\n✅ What we’ll be asking of reps in 2025 – the key actions that will make a difference for members.\n✅ The union’s agenda for bargaining and advocacy – what’s on the table and how we’ll win better conditions.\n✅ Union wins members will see this year – the changes we’re delivering for educators.\n✅ What’s at stake in the upcoming federal election – and why this vote matters for our schools. \nYour role as a rep is crucial in keeping members informed\, engaged\, and ready to take action. Join us for this fast\, focused session to get the insights and support you need. \nRSVP now and be part of the conversation that shapes our union’s future.
URL:https://www.aeuact.org.au/event/online-delegates-circle-be-the-voice-of-your-sub-branch/
LOCATION:Online
ATTACH;FMTTYPE=image/heic:https://www.aeuact.org.au/wp-content/uploads/2025/02/Amaroo-School-SB-elections-scaled.jpg
END:VEVENT
END:VCALENDAR