BEGIN:VCALENDAR
VERSION:2.0
PRODID:-//Australian Education Union ACT Branch - ECPv6.15.20//NONSGML v1.0//EN
CALSCALE:GREGORIAN
METHOD:PUBLISH
X-WR-CALNAME:Australian Education Union ACT Branch
X-ORIGINAL-URL:https://www.aeuact.org.au
X-WR-CALDESC:Events for Australian Education Union ACT Branch
REFRESH-INTERVAL;VALUE=DURATION:PT1H
X-Robots-Tag:noindex
X-PUBLISHED-TTL:PT1H
BEGIN:VTIMEZONE
TZID:Australia/Sydney
BEGIN:STANDARD
TZOFFSETFROM:+1100
TZOFFSETTO:+1000
TZNAME:AEST
DTSTART:20230401T160000
END:STANDARD
BEGIN:DAYLIGHT
TZOFFSETFROM:+1000
TZOFFSETTO:+1100
TZNAME:AEDT
DTSTART:20230930T160000
END:DAYLIGHT
BEGIN:STANDARD
TZOFFSETFROM:+1100
TZOFFSETTO:+1000
TZNAME:AEST
DTSTART:20240406T160000
END:STANDARD
BEGIN:DAYLIGHT
TZOFFSETFROM:+1000
TZOFFSETTO:+1100
TZNAME:AEDT
DTSTART:20241005T160000
END:DAYLIGHT
BEGIN:STANDARD
TZOFFSETFROM:+1100
TZOFFSETTO:+1000
TZNAME:AEST
DTSTART:20250405T160000
END:STANDARD
BEGIN:DAYLIGHT
TZOFFSETFROM:+1000
TZOFFSETTO:+1100
TZNAME:AEDT
DTSTART:20251004T160000
END:DAYLIGHT
END:VTIMEZONE
BEGIN:VEVENT
DTSTART;TZID=Australia/Sydney:20240516T160000
DTEND;TZID=Australia/Sydney:20240516T180000
DTSTAMP:20260425T085549
CREATED:20240407T234352Z
LAST-MODIFIED:20240409T225202Z
UID:41421-1715875200-1715882400@www.aeuact.org.au
SUMMARY:Pride Network
DESCRIPTION:The Education Directorate’s PRIDE Staff Network supports the inclusion of lesbian\, gay\, bisexual\, transgender\, queer\, intersex and asexual staff. It is made up of staff who support and advocate on behalf of everyone who identifies as LGBTQIA+. The Network meets regularly to discuss any LGBTQIA+ issues and concerns. \nThe AEU ACT Branch is a proud supporter of the Pride Network. \nThe first PRIDE Network meeting for 2024 will be held in Week 3 of Term 2. \nDate: Thursday 16 May  \nTime: 4.00pm \nLocation: Tilley’s Devine Café Gallery\, Lyneham \nThis will be an opportunity for the Network to reconnect\, and welcome new members! \nOther than a great opportunity to socialise\, the Network is looking to promote some new opportunities to contribute to the ongoing work of the Network\, including: \n\nCo-Chair\nExecutive members (to support Co-Chairs)\nSocial Coordinator\n\nCome along and hear about how you can contribute to the revitalised PRIDE Network for 2024! \nFor more information or to RSVP contact EDUPrideNetwork@act.gov.au
URL:https://www.aeuact.org.au/event/pride-network/
ATTACH;FMTTYPE=image/png:https://www.aeuact.org.au/wp-content/uploads/2024/04/Letter-X-Logo-1120-x-400-px.png
END:VEVENT
END:VCALENDAR