BEGIN:VCALENDAR
VERSION:2.0
PRODID:-//Australian Education Union ACT Branch - ECPv6.15.20//NONSGML v1.0//EN
CALSCALE:GREGORIAN
METHOD:PUBLISH
X-WR-CALNAME:Australian Education Union ACT Branch
X-ORIGINAL-URL:https://www.aeuact.org.au
X-WR-CALDESC:Events for Australian Education Union ACT Branch
REFRESH-INTERVAL;VALUE=DURATION:PT1H
X-Robots-Tag:noindex
X-PUBLISHED-TTL:PT1H
BEGIN:VTIMEZONE
TZID:Australia/Sydney
BEGIN:STANDARD
TZOFFSETFROM:+1100
TZOFFSETTO:+1000
TZNAME:AEST
DTSTART:20220402T160000
END:STANDARD
BEGIN:DAYLIGHT
TZOFFSETFROM:+1000
TZOFFSETTO:+1100
TZNAME:AEDT
DTSTART:20221001T160000
END:DAYLIGHT
BEGIN:STANDARD
TZOFFSETFROM:+1100
TZOFFSETTO:+1000
TZNAME:AEST
DTSTART:20230401T160000
END:STANDARD
BEGIN:DAYLIGHT
TZOFFSETFROM:+1000
TZOFFSETTO:+1100
TZNAME:AEDT
DTSTART:20230930T160000
END:DAYLIGHT
BEGIN:STANDARD
TZOFFSETFROM:+1100
TZOFFSETTO:+1000
TZNAME:AEST
DTSTART:20240406T160000
END:STANDARD
BEGIN:DAYLIGHT
TZOFFSETFROM:+1000
TZOFFSETTO:+1100
TZNAME:AEDT
DTSTART:20241005T160000
END:DAYLIGHT
END:VTIMEZONE
BEGIN:VEVENT
DTSTART;TZID=Australia/Sydney:20230613T163000
DTEND;TZID=Australia/Sydney:20230613T173000
DTSTAMP:20260424T223535
CREATED:20230602T055524Z
LAST-MODIFIED:20230602T055725Z
UID:15150-1686673800-1686677400@www.aeuact.org.au
SUMMARY:Relief Teacher Sub-Branch Meeting Term 3
DESCRIPTION:Dear relief teacher members\, \nWe’d love to see you along at our next relief teacher sub-branch meeting! \nWe’ve got two big matters to discuss: \n\nThe upcoming ballot on the new enterprise agreement\nA discussion of the upcoming relief teacher management/booking system\, “Kronos”\nAny other business\n\nPlease note that due to the size of the main items\, any other business will need to be held over to our next meeting. \nSnacks and refreshments will be provided – we’re excited to see you there! \n________________________________________________________________________________ \nMicrosoft Teams meeting \nJoin on your computer\, mobile app or room device \nClick here to join the meeting \nMeeting ID: 468 368 835 646 \nPasscode: JZJAFF \nDownload Teams | Join on the web \nLearn more | Meeting options \n________________________________________________________________________________
URL:https://www.aeuact.org.au/event/relief-teacher-sub-branch-term-3/
LOCATION:AEU ACT\, Level 1/71 Leichhardt St\, Kingston\, ACT\, 2604\, Australia
ATTACH;FMTTYPE=image/jpeg:https://www.aeuact.org.au/wp-content/uploads/2023/05/brooke-cagle-uHVRvDr7pg-unsplash-scaled.jpg
ORGANIZER;CN="Sean van der Heide":MAILTO:sean.vanderheide@aeuact.org.au
END:VEVENT
END:VCALENDAR