BEGIN:VCALENDAR
VERSION:2.0
PRODID:-//Australian Education Union ACT Branch - ECPv6.15.20//NONSGML v1.0//EN
CALSCALE:GREGORIAN
METHOD:PUBLISH
X-WR-CALNAME:Australian Education Union ACT Branch
X-ORIGINAL-URL:https://www.aeuact.org.au
X-WR-CALDESC:Events for Australian Education Union ACT Branch
REFRESH-INTERVAL;VALUE=DURATION:PT1H
X-Robots-Tag:noindex
X-PUBLISHED-TTL:PT1H
BEGIN:VTIMEZONE
TZID:Australia/Sydney
BEGIN:STANDARD
TZOFFSETFROM:+1100
TZOFFSETTO:+1000
TZNAME:AEST
DTSTART:20240406T160000
END:STANDARD
BEGIN:DAYLIGHT
TZOFFSETFROM:+1000
TZOFFSETTO:+1100
TZNAME:AEDT
DTSTART:20241005T160000
END:DAYLIGHT
BEGIN:STANDARD
TZOFFSETFROM:+1100
TZOFFSETTO:+1000
TZNAME:AEST
DTSTART:20250405T160000
END:STANDARD
BEGIN:DAYLIGHT
TZOFFSETFROM:+1000
TZOFFSETTO:+1100
TZNAME:AEDT
DTSTART:20251004T160000
END:DAYLIGHT
BEGIN:STANDARD
TZOFFSETFROM:+1100
TZOFFSETTO:+1000
TZNAME:AEST
DTSTART:20260404T160000
END:STANDARD
BEGIN:DAYLIGHT
TZOFFSETFROM:+1000
TZOFFSETTO:+1100
TZNAME:AEDT
DTSTART:20261003T160000
END:DAYLIGHT
END:VTIMEZONE
BEGIN:VEVENT
DTSTART;TZID=Australia/Sydney:20250821T163000
DTEND;TZID=Australia/Sydney:20250821T183000
DTSTAMP:20260425T021205
CREATED:20250728T052830Z
LAST-MODIFIED:20250811T011320Z
UID:127725-1755793800-1755801000@www.aeuact.org.au
SUMMARY:School Assistant Network Term 3: Empowerment and issue resolution
DESCRIPTION:Unions are strongest when members are empowered to stand up\, speak out\, and advocate for their rights. That’s why the AEU is focused on making sure you not only know your rights\, but feel confident using them.  \nThis term 3 School Assistant Network session is all about practical skills. We’ll look at tools you can use in the workplace\, focusing on how to address issues that may arise to make sure your entitlements are respected and delivered. \nJoin us for some food\, conversation\, and solidarity with fellow School Assistants from across ACT public education. It’s a chance to connect\, learn\, and build your confidence as a union member. 
URL:https://www.aeuact.org.au/event/school-assistant-network-term-3-empowerment-and-issue-resolution/
LOCATION:AEU HQ\, 71 Leichhardt Street\, Kingston\, ACT\, 2604\, Australia
ATTACH;FMTTYPE=image/jpeg:https://www.aeuact.org.au/wp-content/uploads/2023/05/Sch-Asst-finalists.jpg
END:VEVENT
END:VCALENDAR