BEGIN:VCALENDAR
VERSION:2.0
PRODID:-//Australian Education Union ACT Branch - ECPv6.15.20//NONSGML v1.0//EN
CALSCALE:GREGORIAN
METHOD:PUBLISH
X-WR-CALNAME:Australian Education Union ACT Branch
X-ORIGINAL-URL:https://www.aeuact.org.au
X-WR-CALDESC:Events for Australian Education Union ACT Branch
REFRESH-INTERVAL;VALUE=DURATION:PT1H
X-Robots-Tag:noindex
X-PUBLISHED-TTL:PT1H
BEGIN:VTIMEZONE
TZID:Australia/Sydney
BEGIN:STANDARD
TZOFFSETFROM:+1100
TZOFFSETTO:+1000
TZNAME:AEST
DTSTART:20230401T160000
END:STANDARD
BEGIN:DAYLIGHT
TZOFFSETFROM:+1000
TZOFFSETTO:+1100
TZNAME:AEDT
DTSTART:20230930T160000
END:DAYLIGHT
BEGIN:STANDARD
TZOFFSETFROM:+1100
TZOFFSETTO:+1000
TZNAME:AEST
DTSTART:20240406T160000
END:STANDARD
BEGIN:DAYLIGHT
TZOFFSETFROM:+1000
TZOFFSETTO:+1100
TZNAME:AEDT
DTSTART:20241005T160000
END:DAYLIGHT
BEGIN:STANDARD
TZOFFSETFROM:+1100
TZOFFSETTO:+1000
TZNAME:AEST
DTSTART:20250405T160000
END:STANDARD
BEGIN:DAYLIGHT
TZOFFSETFROM:+1000
TZOFFSETTO:+1100
TZNAME:AEDT
DTSTART:20251004T160000
END:DAYLIGHT
END:VTIMEZONE
BEGIN:VEVENT
DTSTART;TZID=Australia/Sydney:20240523T083000
DTEND;TZID=Australia/Sydney:20240523T153000
DTSTAMP:20260425T070218
CREATED:20240409T005027Z
LAST-MODIFIED:20240414T215910Z
UID:41711-1716453000-1716478200@www.aeuact.org.au
SUMMARY:Supporting Students with Autism in Years 7-12
DESCRIPTION:The Supporting Students with Autism in 7-12 course is designed to \n\ndevelop an understanding of the wide range of characteristics of students with Autism;\nexplore a range of strategies which address the needs of students with Autism in the areas of language and cognitive development\, communication skills and social behaviour;\ndevelop specific strategies to help students with Autism access the curriculum\, manage their own stressful reactions and modify their behaviours.\n\nParticipants will also develop an understanding of how to set up an effective learning environment for students with Autism. \nThis course will be held on Thursday 23 May at the AEU ACT Branch\, Level 1/71 Leichhardt Street\, Kingston. \nIt is offered through a partnership arrangement with the Centre for Professional Learning of the NSW Teachers Federation. \nThe course is accredited through NESA and TQI for 5 hours. \nFor more information including how to register go to: Supporting Students with Autism in 7-12 (nswtf.org.au)
URL:https://www.aeuact.org.au/event/supporting-students-with-autism-in-years-7-12/
LOCATION:AEU HQ\, 71 Leichhardt Street\, Kingston\, ACT\, 2604\, Australia
ATTACH;FMTTYPE=image/png:https://www.aeuact.org.au/wp-content/uploads/2024/04/21148_CPL_Main-blue.png
END:VEVENT
END:VCALENDAR