BEGIN:VCALENDAR
VERSION:2.0
PRODID:-//Australian Education Union ACT Branch - ECPv6.15.20//NONSGML v1.0//EN
CALSCALE:GREGORIAN
METHOD:PUBLISH
X-WR-CALNAME:Australian Education Union ACT Branch
X-ORIGINAL-URL:https://www.aeuact.org.au
X-WR-CALDESC:Events for Australian Education Union ACT Branch
REFRESH-INTERVAL;VALUE=DURATION:PT1H
X-Robots-Tag:noindex
X-PUBLISHED-TTL:PT1H
BEGIN:VTIMEZONE
TZID:Australia/Sydney
BEGIN:STANDARD
TZOFFSETFROM:+1100
TZOFFSETTO:+1000
TZNAME:AEST
DTSTART:20240406T160000
END:STANDARD
BEGIN:DAYLIGHT
TZOFFSETFROM:+1000
TZOFFSETTO:+1100
TZNAME:AEDT
DTSTART:20241005T160000
END:DAYLIGHT
BEGIN:STANDARD
TZOFFSETFROM:+1100
TZOFFSETTO:+1000
TZNAME:AEST
DTSTART:20250405T160000
END:STANDARD
BEGIN:DAYLIGHT
TZOFFSETFROM:+1000
TZOFFSETTO:+1100
TZNAME:AEDT
DTSTART:20251004T160000
END:DAYLIGHT
BEGIN:STANDARD
TZOFFSETFROM:+1100
TZOFFSETTO:+1000
TZNAME:AEST
DTSTART:20260404T160000
END:STANDARD
BEGIN:DAYLIGHT
TZOFFSETFROM:+1000
TZOFFSETTO:+1100
TZNAME:AEDT
DTSTART:20261003T160000
END:DAYLIGHT
END:VTIMEZONE
BEGIN:VEVENT
DTSTART;TZID=Australia/Sydney:20250612T160000
DTEND;TZID=Australia/Sydney:20250612T180000
DTSTAMP:20260425T112026
CREATED:20250519T015740Z
LAST-MODIFIED:20250611T075426Z
UID:105896-1749744000-1749751200@www.aeuact.org.au
SUMMARY:Term 2 Early Career Teachers Network - Cancelled
DESCRIPTION:This event has been cancelled. However\, there will be other opportunities for early career teachers to provide feedback on the EDU New Educator Support Program. \n  \nShape Your Future: Share your feedback on the New Educator Support Program  \nAttention teachers in your first five years! Join us for this session to give your feedback on the EDU New Educator Support Program. Ensure the voices of early educators can drive change and improvements for the future. \nGet up to date knowledge on how the bargaining process works\, learn what’s in the current log of claims specifically for early career teachers. Contribute meaningful feedback to improve the EDU New Educator Support Program. \nConnect with fellow early career educators\, share experiences\, and explore pathways to become more active in your union. Light refreshments provided. \nYour voice matters—help shape the future of education in the ACT!
URL:https://www.aeuact.org.au/event/term-2-new-educator-network-shape-your-future/
LOCATION:AEU HQ\, 71 Leichhardt Street\, Kingston\, ACT\, 2604\, Australia
ATTACH;FMTTYPE=image/jpeg:https://www.aeuact.org.au/wp-content/uploads/2024/05/0399_X1A7759web.jpg
END:VEVENT
END:VCALENDAR