BEGIN:VCALENDAR
VERSION:2.0
PRODID:-//Australian Education Union ACT Branch - ECPv6.15.20//NONSGML v1.0//EN
CALSCALE:GREGORIAN
METHOD:PUBLISH
X-WR-CALNAME:Australian Education Union ACT Branch
X-ORIGINAL-URL:https://www.aeuact.org.au
X-WR-CALDESC:Events for Australian Education Union ACT Branch
REFRESH-INTERVAL;VALUE=DURATION:PT1H
X-Robots-Tag:noindex
X-PUBLISHED-TTL:PT1H
BEGIN:VTIMEZONE
TZID:Australia/Sydney
BEGIN:STANDARD
TZOFFSETFROM:+1100
TZOFFSETTO:+1000
TZNAME:AEST
DTSTART:20240406T160000
END:STANDARD
BEGIN:DAYLIGHT
TZOFFSETFROM:+1000
TZOFFSETTO:+1100
TZNAME:AEDT
DTSTART:20241005T160000
END:DAYLIGHT
BEGIN:STANDARD
TZOFFSETFROM:+1100
TZOFFSETTO:+1000
TZNAME:AEST
DTSTART:20250405T160000
END:STANDARD
BEGIN:DAYLIGHT
TZOFFSETFROM:+1000
TZOFFSETTO:+1100
TZNAME:AEDT
DTSTART:20251004T160000
END:DAYLIGHT
BEGIN:STANDARD
TZOFFSETFROM:+1100
TZOFFSETTO:+1000
TZNAME:AEST
DTSTART:20260404T160000
END:STANDARD
BEGIN:DAYLIGHT
TZOFFSETFROM:+1000
TZOFFSETTO:+1100
TZNAME:AEDT
DTSTART:20261003T160000
END:DAYLIGHT
END:VTIMEZONE
BEGIN:VEVENT
DTSTART;TZID=Australia/Sydney:20251106T153000
DTEND;TZID=Australia/Sydney:20251106T180000
DTSTAMP:20260424T085927
CREATED:20250924T043135Z
LAST-MODIFIED:20250924T043135Z
UID:130692-1762443000-1762452000@www.aeuact.org.au
SUMMARY:Term 4 Women's Network: Pickleball & Passiona
DESCRIPTION:Join fellow women and gender diverse educators for an evening of active connection and social wellness as Term 4 draws to a close. This relaxed event combines beginner-friendly pickleball (suitable for all skill levels) with cheese\, drinks and networking. This event is the perfect opportunity to unwind\, connect with colleagues\, and celebrate making it through another academic year. Whether you’re new to pickleball or a seasoned player\, come ready to decompress\, laugh\, and strengthen relationships with your educator community in a fun\, low-pressure environment. We’ll have some pickelball experts on hand to help you learn the rules\, teach you how to play and have fun! \nThis event is being held at Kingsford Smith School. Pickelball will be held in the hall from 3:30pm-4:45pm\, followed by drinks and cheese in the community room. Come for as long or as little as you like!
URL:https://www.aeuact.org.au/event/term-4-womens-network-pickleball-passiona/
LOCATION:Kingsford Smith School\, 100 Starke St\, Holt\, 2615\, Australia
CATEGORIES:Women's Network
ATTACH;FMTTYPE=image/jpeg:https://www.aeuact.org.au/wp-content/uploads/2023/05/0510_M7A8659web.jpg
ORGANIZER;CN="Katie Slater":MAILTO:katie.slater@aeuact.org.au
END:VEVENT
END:VCALENDAR