BEGIN:VCALENDAR
VERSION:2.0
PRODID:-//Australian Education Union ACT Branch - ECPv6.15.20//NONSGML v1.0//EN
CALSCALE:GREGORIAN
METHOD:PUBLISH
X-WR-CALNAME:Australian Education Union ACT Branch
X-ORIGINAL-URL:https://www.aeuact.org.au
X-WR-CALDESC:Events for Australian Education Union ACT Branch
REFRESH-INTERVAL;VALUE=DURATION:PT1H
X-Robots-Tag:noindex
X-PUBLISHED-TTL:PT1H
BEGIN:VTIMEZONE
TZID:Australia/Sydney
BEGIN:STANDARD
TZOFFSETFROM:+1100
TZOFFSETTO:+1000
TZNAME:AEST
DTSTART:20230401T160000
END:STANDARD
BEGIN:DAYLIGHT
TZOFFSETFROM:+1000
TZOFFSETTO:+1100
TZNAME:AEDT
DTSTART:20230930T160000
END:DAYLIGHT
BEGIN:STANDARD
TZOFFSETFROM:+1100
TZOFFSETTO:+1000
TZNAME:AEST
DTSTART:20240406T160000
END:STANDARD
BEGIN:DAYLIGHT
TZOFFSETFROM:+1000
TZOFFSETTO:+1100
TZNAME:AEDT
DTSTART:20241005T160000
END:DAYLIGHT
BEGIN:STANDARD
TZOFFSETFROM:+1100
TZOFFSETTO:+1000
TZNAME:AEST
DTSTART:20250405T160000
END:STANDARD
BEGIN:DAYLIGHT
TZOFFSETFROM:+1000
TZOFFSETTO:+1100
TZNAME:AEDT
DTSTART:20251004T160000
END:DAYLIGHT
END:VTIMEZONE
BEGIN:VEVENT
DTSTART;TZID=Australia/Sydney:20241031T160000
DTEND;TZID=Australia/Sydney:20241031T180000
DTSTAMP:20260425T042815
CREATED:20240710T051910Z
LAST-MODIFIED:20241021T230554Z
UID:82071-1730390400-1730397600@www.aeuact.org.au
SUMMARY:Term 4 Women's network: Meet History's (In)visible women over a drink & snack!
DESCRIPTION:You may have been to a “Comedy in the Pub”\, or a Trivia Night\, this event – although not in a pub – aims to recreate the same sort of relaxed atmosphere. \nThis event will provide an opportunity for those interested in women’s activism and reclaiming (in)visible women in both a context of the National History curriculum\, and the AEU History to learn more of the past. It will provide a ‘social’ forum to interact and network with likeminded colleagues. \nLight refreshments and finger food will be available. \n  \n 
URL:https://www.aeuact.org.au/event/term-4-womens-network-women-in-history-reclaiming-invisible-women/
LOCATION:AEU HQ\, 71 Leichhardt Street\, Kingston\, ACT\, 2604\, Australia
CATEGORIES:Women's Network
ATTACH;FMTTYPE=image/jpeg:https://www.aeuact.org.au/wp-content/uploads/2024/07/0475_X1A7796web.jpg
END:VEVENT
END:VCALENDAR