BEGIN:VCALENDAR
VERSION:2.0
PRODID:-//Australian Education Union ACT Branch - ECPv6.15.20//NONSGML v1.0//EN
CALSCALE:GREGORIAN
METHOD:PUBLISH
X-WR-CALNAME:Australian Education Union ACT Branch
X-ORIGINAL-URL:https://www.aeuact.org.au
X-WR-CALDESC:Events for Australian Education Union ACT Branch
REFRESH-INTERVAL;VALUE=DURATION:PT1H
X-Robots-Tag:noindex
X-PUBLISHED-TTL:PT1H
BEGIN:VTIMEZONE
TZID:Australia/Sydney
BEGIN:STANDARD
TZOFFSETFROM:+1100
TZOFFSETTO:+1000
TZNAME:AEST
DTSTART:20230401T160000
END:STANDARD
BEGIN:DAYLIGHT
TZOFFSETFROM:+1000
TZOFFSETTO:+1100
TZNAME:AEDT
DTSTART:20230930T160000
END:DAYLIGHT
BEGIN:STANDARD
TZOFFSETFROM:+1100
TZOFFSETTO:+1000
TZNAME:AEST
DTSTART:20240406T160000
END:STANDARD
BEGIN:DAYLIGHT
TZOFFSETFROM:+1000
TZOFFSETTO:+1100
TZNAME:AEDT
DTSTART:20241005T160000
END:DAYLIGHT
BEGIN:STANDARD
TZOFFSETFROM:+1100
TZOFFSETTO:+1000
TZNAME:AEST
DTSTART:20250405T160000
END:STANDARD
BEGIN:DAYLIGHT
TZOFFSETFROM:+1000
TZOFFSETTO:+1100
TZNAME:AEDT
DTSTART:20251004T160000
END:DAYLIGHT
END:VTIMEZONE
BEGIN:VEVENT
DTSTART;TZID=Australia/Sydney:20240801T160000
DTEND;TZID=Australia/Sydney:20240801T180000
DTSTAMP:20260424T194359
CREATED:20240711T005830Z
LAST-MODIFIED:20240711T005830Z
UID:82302-1722528000-1722535200@www.aeuact.org.au
SUMMARY:Women's Contact Officer training
DESCRIPTION:The AEU ACT Women’s Contact Officer (WCO) has a key leadership role in the workplace. Learn the roles and responsibilities of this position and build confidence to succeed in this role.\nThis introductory online course will provide WCO’s with the knowledge and skills needed to support\, advise and advocate for individual members and the branch on gender and equity issues. \nRSVP to the event\, and the day of the training you’ll receive the meeting link via email.
URL:https://www.aeuact.org.au/event/womens-contact-officer-training/
LOCATION:Online
CATEGORIES:Women's Network
ATTACH;FMTTYPE=image/jpeg:https://www.aeuact.org.au/wp-content/uploads/2024/05/0208_M7A2997web.jpg
ORGANIZER;CN="Katie Slater":MAILTO:katie.slater@aeuact.org.au
END:VEVENT
END:VCALENDAR