BEGIN:VCALENDAR
VERSION:2.0
PRODID:-//Australian Education Union ACT Branch - ECPv6.15.20//NONSGML v1.0//EN
CALSCALE:GREGORIAN
METHOD:PUBLISH
X-WR-CALNAME:Australian Education Union ACT Branch
X-ORIGINAL-URL:https://www.aeuact.org.au
X-WR-CALDESC:Events for Australian Education Union ACT Branch
REFRESH-INTERVAL;VALUE=DURATION:PT1H
X-Robots-Tag:noindex
X-PUBLISHED-TTL:PT1H
BEGIN:VTIMEZONE
TZID:Australia/Sydney
BEGIN:STANDARD
TZOFFSETFROM:+1100
TZOFFSETTO:+1000
TZNAME:AEST
DTSTART:20220402T160000
END:STANDARD
BEGIN:DAYLIGHT
TZOFFSETFROM:+1000
TZOFFSETTO:+1100
TZNAME:AEDT
DTSTART:20221001T160000
END:DAYLIGHT
BEGIN:STANDARD
TZOFFSETFROM:+1100
TZOFFSETTO:+1000
TZNAME:AEST
DTSTART:20230401T160000
END:STANDARD
BEGIN:DAYLIGHT
TZOFFSETFROM:+1000
TZOFFSETTO:+1100
TZNAME:AEDT
DTSTART:20230930T160000
END:DAYLIGHT
BEGIN:STANDARD
TZOFFSETFROM:+1100
TZOFFSETTO:+1000
TZNAME:AEST
DTSTART:20240406T160000
END:STANDARD
BEGIN:DAYLIGHT
TZOFFSETFROM:+1000
TZOFFSETTO:+1100
TZNAME:AEDT
DTSTART:20241005T160000
END:DAYLIGHT
END:VTIMEZONE
BEGIN:VEVENT
DTSTART;TZID=Australia/Sydney:20231108T160000
DTEND;TZID=Australia/Sydney:20231108T180000
DTSTAMP:20260424T223433
CREATED:20221014T145236Z
LAST-MODIFIED:20231023T004620Z
UID:2030-1699459200-1699466400@www.aeuact.org.au
SUMMARY:Women’s Network (Week 5)
DESCRIPTION:Join us for our final Women’s Network event for 2023 with wine and cheese! We are so excited to have Jacqui Agius\, WorkSafe Commissioner and former AEU ACT Senior Industrial officer attend our event. Jacqui will be talking about WHS issues\, in particular those that relate to the female workforce. We will also have some of our members who attended the Federal Women’s Conference share their experiences around lobbying at Parliament House. It will be a great opportunity to come together and hear from one another.
URL:https://www.aeuact.org.au/event/womens-network-week-3-2/
LOCATION:The Canberra Wine House\, 2 Badham Street\, Dickson\, ACT\, 2602
ATTACH;FMTTYPE=image/jpeg:https://www.aeuact.org.au/wp-content/uploads/2023/09/ACT-delegation-3-cropped.jpg
END:VEVENT
END:VCALENDAR