BEGIN:VCALENDAR
VERSION:2.0
PRODID:-//Australian Education Union ACT Branch - ECPv6.15.20//NONSGML v1.0//EN
CALSCALE:GREGORIAN
METHOD:PUBLISH
X-WR-CALNAME:Australian Education Union ACT Branch
X-ORIGINAL-URL:https://www.aeuact.org.au
X-WR-CALDESC:Events for Australian Education Union ACT Branch
REFRESH-INTERVAL;VALUE=DURATION:PT1H
X-Robots-Tag:noindex
X-PUBLISHED-TTL:PT1H
BEGIN:VTIMEZONE
TZID:Australia/Sydney
BEGIN:STANDARD
TZOFFSETFROM:+1100
TZOFFSETTO:+1000
TZNAME:AEST
DTSTART:20230401T160000
END:STANDARD
BEGIN:DAYLIGHT
TZOFFSETFROM:+1000
TZOFFSETTO:+1100
TZNAME:AEDT
DTSTART:20230930T160000
END:DAYLIGHT
BEGIN:STANDARD
TZOFFSETFROM:+1100
TZOFFSETTO:+1000
TZNAME:AEST
DTSTART:20240406T160000
END:STANDARD
BEGIN:DAYLIGHT
TZOFFSETFROM:+1000
TZOFFSETTO:+1100
TZNAME:AEDT
DTSTART:20241005T160000
END:DAYLIGHT
BEGIN:STANDARD
TZOFFSETFROM:+1100
TZOFFSETTO:+1000
TZNAME:AEST
DTSTART:20250405T160000
END:STANDARD
BEGIN:DAYLIGHT
TZOFFSETFROM:+1000
TZOFFSETTO:+1100
TZNAME:AEDT
DTSTART:20251004T160000
END:DAYLIGHT
END:VTIMEZONE
BEGIN:VEVENT
DTSTART;TZID=Australia/Sydney:20240509T160000
DTEND;TZID=Australia/Sydney:20240509T180000
DTSTAMP:20260425T114020
CREATED:20240130T215456Z
LAST-MODIFIED:20240501T010328Z
UID:29748-1715270400-1715277600@www.aeuact.org.au
SUMMARY:Term 2 Women's Network event
DESCRIPTION:It’s time to optimise the workplace for women workers. \nJoin us for an informative and fun session with experienced health professionals that specialise in women’s reproductive health\, particularly menstruation and peri/menopause. This will provide a safe space for members to ask questions or raise concerns\, offering an opportunity that you may have never had before. \n 
URL:https://www.aeuact.org.au/event/womensnetworkt2/
LOCATION:AEU HQ\, 71 Leichhardt Street\, Kingston\, ACT\, 2604\, Australia
CATEGORIES:Women's Network
ATTACH;FMTTYPE=image/png:https://www.aeuact.org.au/wp-content/uploads/2024/03/womens-network-t2-1.png
ORGANIZER;CN="Katie Slater":MAILTO:katie.slater@aeuact.org.au
END:VEVENT
END:VCALENDAR