BEGIN:VCALENDAR
VERSION:2.0
PRODID:-//Australian Education Union ACT Branch - ECPv6.15.20//NONSGML v1.0//EN
CALSCALE:GREGORIAN
METHOD:PUBLISH
X-ORIGINAL-URL:https://www.aeuact.org.au
X-WR-CALDESC:Events for Australian Education Union ACT Branch
REFRESH-INTERVAL;VALUE=DURATION:PT1H
X-Robots-Tag:noindex
X-PUBLISHED-TTL:PT1H
BEGIN:VTIMEZONE
TZID:Australia/Sydney
BEGIN:STANDARD
TZOFFSETFROM:+1100
TZOFFSETTO:+1000
TZNAME:AEST
DTSTART:20230401T160000
END:STANDARD
BEGIN:DAYLIGHT
TZOFFSETFROM:+1000
TZOFFSETTO:+1100
TZNAME:AEDT
DTSTART:20230930T160000
END:DAYLIGHT
BEGIN:STANDARD
TZOFFSETFROM:+1100
TZOFFSETTO:+1000
TZNAME:AEST
DTSTART:20240406T160000
END:STANDARD
BEGIN:DAYLIGHT
TZOFFSETFROM:+1000
TZOFFSETTO:+1100
TZNAME:AEDT
DTSTART:20241005T160000
END:DAYLIGHT
BEGIN:STANDARD
TZOFFSETFROM:+1100
TZOFFSETTO:+1000
TZNAME:AEST
DTSTART:20250405T160000
END:STANDARD
BEGIN:DAYLIGHT
TZOFFSETFROM:+1000
TZOFFSETTO:+1100
TZNAME:AEDT
DTSTART:20251004T160000
END:DAYLIGHT
END:VTIMEZONE
BEGIN:VEVENT
DTSTART;TZID=Australia/Sydney:20240925T160000
DTEND;TZID=Australia/Sydney:20240925T180000
DTSTAMP:20260425T125429
CREATED:20240823T010742Z
LAST-MODIFIED:20240912T002215Z
UID:10000453-1727280000-1727287200@www.aeuact.org.au
SUMMARY:School Assistant Network
DESCRIPTION:Our Term 3 School Assistant Network is all about you and your work. \nThis is an opportunity to meet with other school assistants in a relaxed and supportive environment to learn more about: allowances\, overtime\, breaks\, and upcoming changes to central engagement and transfer of school assistants. \nLight refreshments will be provided at this free event\, so why not bring a friend (even if they’re not a member yet)! \n  \n 
URL:https://www.aeuact.org.au/event/school-assistant-network/
LOCATION:Margaret Hendry School\, 100 Sutherlant Cres\, Taylor\, ACT\, Australia
ATTACH;FMTTYPE=image/jpeg:https://www.aeuact.org.au/wp-content/uploads/2024/05/0463_M7A3211web.jpg
END:VEVENT
END:VCALENDAR