BEGIN:VCALENDAR
VERSION:2.0
PRODID:-//Australian Education Union ACT Branch - ECPv6.15.20//NONSGML v1.0//EN
CALSCALE:GREGORIAN
METHOD:PUBLISH
X-ORIGINAL-URL:https://www.aeuact.org.au
X-WR-CALDESC:Events for Australian Education Union ACT Branch
REFRESH-INTERVAL;VALUE=DURATION:PT1H
X-Robots-Tag:noindex
X-PUBLISHED-TTL:PT1H
BEGIN:VTIMEZONE
TZID:Australia/Sydney
BEGIN:STANDARD
TZOFFSETFROM:+1100
TZOFFSETTO:+1000
TZNAME:AEST
DTSTART:20230401T160000
END:STANDARD
BEGIN:DAYLIGHT
TZOFFSETFROM:+1000
TZOFFSETTO:+1100
TZNAME:AEDT
DTSTART:20230930T160000
END:DAYLIGHT
BEGIN:STANDARD
TZOFFSETFROM:+1100
TZOFFSETTO:+1000
TZNAME:AEST
DTSTART:20240406T160000
END:STANDARD
BEGIN:DAYLIGHT
TZOFFSETFROM:+1000
TZOFFSETTO:+1100
TZNAME:AEDT
DTSTART:20241005T160000
END:DAYLIGHT
BEGIN:STANDARD
TZOFFSETFROM:+1100
TZOFFSETTO:+1000
TZNAME:AEST
DTSTART:20250405T160000
END:STANDARD
BEGIN:DAYLIGHT
TZOFFSETFROM:+1000
TZOFFSETTO:+1100
TZNAME:AEDT
DTSTART:20251004T160000
END:DAYLIGHT
END:VTIMEZONE
BEGIN:VEVENT
DTSTART;TZID=Australia/Sydney:20240403T160000
DTEND;TZID=Australia/Sydney:20240403T180000
DTSTAMP:20260425T203841
CREATED:20231114T031558Z
LAST-MODIFIED:20240319T042328Z
UID:10000412-1712160000-1712167200@www.aeuact.org.au
SUMMARY:School Assistants' Network - have your say on literacy and numeracy
DESCRIPTION:School Assistants play an integral part in supporting students to develop their literacy and numeracy skills. \nThe Secretariat supporting the ACT Government’s Inquiry into Literacy and Numeracy Education is keen to hear perspectives from school assistants about your work in relation to literacy and numeracy support. A representative from the Inquiry will be at our network event to hear directly from you. \nThis event is an important opportunity for you to have your say on how you work with students\, and what supports would help you help them. \n  \nAfternoon tea will be provided.
URL:https://www.aeuact.org.au/event/school-assistants-network/
LOCATION:Namadgi School\, 141 O'Halloran Cct\, Kambah\, ACT\, 2902\, Australia
ATTACH;FMTTYPE=image/jpeg:https://www.aeuact.org.au/wp-content/uploads/2024/03/SA-afternoon-tea-9.11.22-cropped.jpg
END:VEVENT
END:VCALENDAR