BEGIN:VCALENDAR
VERSION:2.0
PRODID:-//Australian Education Union ACT Branch - ECPv6.15.20//NONSGML v1.0//EN
CALSCALE:GREGORIAN
METHOD:PUBLISH
X-ORIGINAL-URL:https://www.aeuact.org.au
X-WR-CALDESC:Events for Australian Education Union ACT Branch
REFRESH-INTERVAL;VALUE=DURATION:PT1H
X-Robots-Tag:noindex
X-PUBLISHED-TTL:PT1H
BEGIN:VTIMEZONE
TZID:Australia/Sydney
BEGIN:STANDARD
TZOFFSETFROM:+1100
TZOFFSETTO:+1000
TZNAME:AEST
DTSTART:20220402T160000
END:STANDARD
BEGIN:DAYLIGHT
TZOFFSETFROM:+1000
TZOFFSETTO:+1100
TZNAME:AEDT
DTSTART:20221001T160000
END:DAYLIGHT
BEGIN:STANDARD
TZOFFSETFROM:+1100
TZOFFSETTO:+1000
TZNAME:AEST
DTSTART:20230401T160000
END:STANDARD
BEGIN:DAYLIGHT
TZOFFSETFROM:+1000
TZOFFSETTO:+1100
TZNAME:AEDT
DTSTART:20230930T160000
END:DAYLIGHT
BEGIN:STANDARD
TZOFFSETFROM:+1100
TZOFFSETTO:+1000
TZNAME:AEST
DTSTART:20240406T160000
END:STANDARD
BEGIN:DAYLIGHT
TZOFFSETFROM:+1000
TZOFFSETTO:+1100
TZNAME:AEDT
DTSTART:20241005T160000
END:DAYLIGHT
BEGIN:STANDARD
TZOFFSETFROM:+1100
TZOFFSETTO:+1000
TZNAME:AEST
DTSTART:20250405T160000
END:STANDARD
BEGIN:DAYLIGHT
TZOFFSETFROM:+1000
TZOFFSETTO:+1100
TZNAME:AEDT
DTSTART:20251004T160000
END:DAYLIGHT
BEGIN:STANDARD
TZOFFSETFROM:+1100
TZOFFSETTO:+1000
TZNAME:AEST
DTSTART:20260404T160000
END:STANDARD
BEGIN:DAYLIGHT
TZOFFSETFROM:+1000
TZOFFSETTO:+1100
TZNAME:AEDT
DTSTART:20261003T160000
END:DAYLIGHT
END:VTIMEZONE
BEGIN:VEVENT
DTSTART;TZID=Australia/Sydney:20250911T163000
DTEND;TZID=Australia/Sydney:20250911T173000
DTSTAMP:20260424T181831
CREATED:20250807T041134Z
LAST-MODIFIED:20250807T041134Z
UID:10000501-1757608200-1757611800@www.aeuact.org.au
SUMMARY:New Educator Network Event: Q & A Webinar
DESCRIPTION:Get ready for this year’s most interactive new educator network event! \nWe’re hosting a special Q & A webinar where you can ask our AEU staff anything that’s on your mind. \nWhether you’ve been around a few years or are brand new to the profession\, this is your opportunity to get expert answers directly from the source. \nYou can ask anything you want.  \nYou might have questions about: \n\nFace-to-Face Teaching Hours: Clarification on your correct teaching load\nAEU Resources & Factsheets: Where to find the information and support materials you need\nBargaining Impacts: How current negotiations will affect your role\nTQI Portfolio Requirements: Everything you need to know about building your Teacher Quality Institute portfolio\n\n  \nCome Prepared or Come Curious! \nFeel free to send us your questions in advance (send your questions to Ingrid.Bean@aeuact.org.au)\, or simply join us with any hot topics you’d like to discuss. This is your time to get the answers you need. \nDon’t miss this opportunity to connect with fellow educators and get the support you deserve!
URL:https://www.aeuact.org.au/event/new-educator-network-event-q-a-webinar/
LOCATION:Online
ATTACH;FMTTYPE=image/png:https://www.aeuact.org.au/wp-content/uploads/2025/08/q-mark-small.png
END:VEVENT
BEGIN:VEVENT
DTSTART;TZID=Australia/Sydney:20250219T160000
DTEND;TZID=Australia/Sydney:20250219T164500
DTSTAMP:20260424T181831
CREATED:20250211T043421Z
LAST-MODIFIED:20250211T225107Z
UID:10000480-1739980800-1739983500@www.aeuact.org.au
SUMMARY:Online Delegates' Circle - Be the Voice of Your Sub-Branch!
DESCRIPTION:Join us for our Delegates’ Circle – a 45-minute online huddle with the Branch President and Secretary. This is your chance to get across the key issues shaping our work this year and connect with fellow reps. \nWhat we’ll cover:\n✅ Why sub-branch reps are our most important leaders – and how we’re backing you in the role.\n✅ What we’ll be asking of reps in 2025 – the key actions that will make a difference for members.\n✅ The union’s agenda for bargaining and advocacy – what’s on the table and how we’ll win better conditions.\n✅ Union wins members will see this year – the changes we’re delivering for educators.\n✅ What’s at stake in the upcoming federal election – and why this vote matters for our schools. \nYour role as a rep is crucial in keeping members informed\, engaged\, and ready to take action. Join us for this fast\, focused session to get the insights and support you need. \nRSVP now and be part of the conversation that shapes our union’s future.
URL:https://www.aeuact.org.au/event/online-delegates-circle-be-the-voice-of-your-sub-branch/
LOCATION:Online
ATTACH;FMTTYPE=image/heic:https://www.aeuact.org.au/wp-content/uploads/2025/02/Amaroo-School-SB-elections-scaled.jpg
END:VEVENT
BEGIN:VEVENT
DTSTART;TZID=Australia/Sydney:20240801T160000
DTEND;TZID=Australia/Sydney:20240801T180000
DTSTAMP:20260424T181831
CREATED:20240711T005830Z
LAST-MODIFIED:20240711T005830Z
UID:10000438-1722528000-1722535200@www.aeuact.org.au
SUMMARY:Women's Contact Officer training
DESCRIPTION:The AEU ACT Women’s Contact Officer (WCO) has a key leadership role in the workplace. Learn the roles and responsibilities of this position and build confidence to succeed in this role.\nThis introductory online course will provide WCO’s with the knowledge and skills needed to support\, advise and advocate for individual members and the branch on gender and equity issues. \nRSVP to the event\, and the day of the training you’ll receive the meeting link via email.
URL:https://www.aeuact.org.au/event/womens-contact-officer-training/
LOCATION:Online
CATEGORIES:Women's Network
ATTACH;FMTTYPE=image/jpeg:https://www.aeuact.org.au/wp-content/uploads/2024/05/0208_M7A2997web.jpg
ORGANIZER;CN="Katie Slater":MAILTO:katie.slater@aeuact.org.au
END:VEVENT
BEGIN:VEVENT
DTSTART;TZID=Australia/Sydney:20231114T163000
DTEND;TZID=Australia/Sydney:20231114T173000
DTSTAMP:20260424T181831
CREATED:20231109T015425Z
LAST-MODIFIED:20231109T015425Z
UID:10000400-1699979400-1699983000@www.aeuact.org.au
SUMMARY:Relief Teacher Sub-branch Meeting
DESCRIPTION:Relief teachers are invited to the last sub-branch meeting of 2023. A link to the online Teams meeting will be provided the morning of the meeting to those who RSVP.
URL:https://www.aeuact.org.au/event/relief-teacher-sub-branch-meeting-2/
LOCATION:Online
END:VEVENT
BEGIN:VEVENT
DTSTART;TZID=Australia/Sydney:20231108T120000
DTEND;TZID=Australia/Sydney:20231108T130000
DTSTAMP:20260424T181831
CREATED:20230721T022019Z
LAST-MODIFIED:20230721T022300Z
UID:10000054-1699444800-1699448400@www.aeuact.org.au
SUMMARY:CIT Council - Term 4
DESCRIPTION:Join us for CIT council on the 8th of November from 12-1pm\, online via Microsoft teams. \nCIT Council meets once a term to hear the views of CIT members and discuss the issues we are facing both at CIT and across the TAFE sector. \nRSVP below or by email and we will send you a link closer to the date. \nIf you would like to know more about CIT Council\, flick us an email at aeuact@aeuact.org.au and we will be in touch.
URL:https://www.aeuact.org.au/event/cit-council-term-4/
LOCATION:Online
ATTACH;FMTTYPE=image/jpeg:https://www.aeuact.org.au/wp-content/uploads/2022/10/IMG_20220514_120236927.jpg
ORGANIZER;CN="Sean van der Heide":MAILTO:sean.vanderheide@aeuact.org.au
END:VEVENT
BEGIN:VEVENT
DTSTART;TZID=Australia/Sydney:20231018T170000
DTEND;TZID=Australia/Sydney:20231018T190000
DTSTAMP:20260424T181831
CREATED:20221014T143913Z
LAST-MODIFIED:20231015T025658Z
UID:10000023-1697648400-1697655600@www.aeuact.org.au
SUMMARY:Branch Executive (Week 2)
DESCRIPTION:
URL:https://www.aeuact.org.au/event/branch-executive-week-2-2/
LOCATION:Online
ATTACH;FMTTYPE=image/jpeg:https://www.aeuact.org.au/wp-content/uploads/2022/10/5.jpg
END:VEVENT
BEGIN:VEVENT
DTSTART;TZID=Australia/Sydney:20230920T120000
DTEND;TZID=Australia/Sydney:20230920T130000
DTSTAMP:20260424T181831
CREATED:20230721T021916Z
LAST-MODIFIED:20230914T032908Z
UID:10000052-1695211200-1695214800@www.aeuact.org.au
SUMMARY:CIT Council - Term 3
DESCRIPTION:Join us for CIT council on the Wednesday 20th of September from 12-1pm\, online via Microsoft teams. \nCIT Council meets once a term to hear the views of CIT members and discuss the issues we are facing both at CIT and across the TAFE sector. \nRSVP below or by email and we will send you a link closer to the date. \nIf you would like to know more about CIT Council\, flick us an email at aeuact@aeuact.org.au and we will be in touch.
URL:https://www.aeuact.org.au/event/cit-council-term-3/
LOCATION:Online
ATTACH;FMTTYPE=image/jpeg:https://www.aeuact.org.au/wp-content/uploads/2022/10/IMG_20220514_120236927.jpg
ORGANIZER;CN="Sean van der Heide":MAILTO:sean.vanderheide@aeuact.org.au
END:VEVENT
BEGIN:VEVENT
DTSTART;TZID=Australia/Sydney:20230621T160000
DTEND;TZID=Australia/Sydney:20230621T170000
DTSTAMP:20260424T181831
CREATED:20230613T041403Z
LAST-MODIFIED:20230613T041403Z
UID:10000050-1687363200-1687366800@www.aeuact.org.au
SUMMARY:Q&A Teaching Staff EA Ballot
DESCRIPTION:
URL:https://www.aeuact.org.au/event/qa-teaching-staff-ea-ballot/
LOCATION:Online
ATTACH;FMTTYPE=image/png:https://www.aeuact.org.au/wp-content/uploads/2023/02/Badge.png
END:VEVENT
BEGIN:VEVENT
DTSTART;TZID=Australia/Sydney:20230531T153000
DTEND;TZID=Australia/Sydney:20230531T163000
DTSTAMP:20260424T181831
CREATED:20230519T041136Z
LAST-MODIFIED:20230519T041158Z
UID:10000047-1685547000-1685550600@www.aeuact.org.au
SUMMARY:School Assistant Bargaining Meeting
DESCRIPTION:An online meeting with School Assistant members to discuss the ACT Government’s final offer will be held on Wednesday 31 May from 3:30 – 4:30pm. \nMeeting link will be sent once RSVP is received.
URL:https://www.aeuact.org.au/event/school-assistant-meeting-2/
LOCATION:Online
END:VEVENT
BEGIN:VEVENT
DTSTART;TZID=Australia/Sydney:20230502T160000
DTEND;TZID=Australia/Sydney:20230502T170000
DTSTAMP:20260424T181831
CREATED:20230427T231206Z
LAST-MODIFIED:20230427T231206Z
UID:10000045-1683043200-1683046800@www.aeuact.org.au
SUMMARY:Relief Teacher Sub-Branch Meeting
DESCRIPTION:Special online meeting of the relief teacher sub-branch to discuss the government’s latest proposal and gather member feedback. \nA zoom link will be sent on the day of the meeting to members who RSVP.
URL:https://www.aeuact.org.au/event/relief-teacher-sub-branch-meeting/
LOCATION:Online
ORGANIZER;CN="Sean van der Heide":MAILTO:sean.vanderheide@aeuact.org.au
END:VEVENT
END:VCALENDAR