BEGIN:VCALENDAR
VERSION:2.0
PRODID:-//Australian Education Union ACT Branch - ECPv6.15.20//NONSGML v1.0//EN
CALSCALE:GREGORIAN
METHOD:PUBLISH
X-ORIGINAL-URL:https://www.aeuact.org.au
X-WR-CALDESC:Events for Australian Education Union ACT Branch
REFRESH-INTERVAL;VALUE=DURATION:PT1H
X-Robots-Tag:noindex
X-PUBLISHED-TTL:PT1H
BEGIN:VTIMEZONE
TZID:Australia/Sydney
BEGIN:STANDARD
TZOFFSETFROM:+1100
TZOFFSETTO:+1000
TZNAME:AEST
DTSTART:20250405T160000
END:STANDARD
BEGIN:DAYLIGHT
TZOFFSETFROM:+1000
TZOFFSETTO:+1100
TZNAME:AEDT
DTSTART:20251004T160000
END:DAYLIGHT
BEGIN:STANDARD
TZOFFSETFROM:+1100
TZOFFSETTO:+1000
TZNAME:AEST
DTSTART:20260404T160000
END:STANDARD
BEGIN:DAYLIGHT
TZOFFSETFROM:+1000
TZOFFSETTO:+1100
TZNAME:AEDT
DTSTART:20261003T160000
END:DAYLIGHT
BEGIN:STANDARD
TZOFFSETFROM:+1100
TZOFFSETTO:+1000
TZNAME:AEST
DTSTART:20270403T160000
END:STANDARD
BEGIN:DAYLIGHT
TZOFFSETFROM:+1000
TZOFFSETTO:+1100
TZNAME:AEDT
DTSTART:20271002T160000
END:DAYLIGHT
END:VTIMEZONE
BEGIN:VEVENT
DTSTART;TZID=Australia/Sydney:20260329T123000
DTEND;TZID=Australia/Sydney:20260329T143000
DTSTAMP:20260424T071237
CREATED:20260310T223120Z
LAST-MODIFIED:20260310T223120Z
UID:10000520-1774787400-1774794600@www.aeuact.org.au
SUMMARY:Palm Sunday Rally
DESCRIPTION:For years\, AEU members have stood up consistently in support of refugees\, as it is often teachers who see close up the terrible impact that cruel policies have on children from refugee and asylum seeker backgrounds. \nThis Palm Sunday\, our message is clear – Refugees and Migrants are Welcome Here. Join us at the Palm Sunday rally to add your voice to call for an end to cruelty to refugees\, an end to scapegoating of migrants and Say No to Racism. \nSpeakers include: Senator David Pocock\, Reverend Belinda Groves and Amnesty International’s Zaki Haidari. \nThe recent racist anti-immigrant protests in Australia blame migrants and refugees for the lack of housing to cost of living and more. Both Labor and the Coalition not only refuse to reject this blame-shifting\, they are actively contributing to it. \nThe evidence shows that refugees and migrants enrich our community\, socially and economically. It is not migrants and refugees who are corroding our social fabric\, but those who seek to whip up fear and create division and hatred. \nStand up for fairness and humanity. Gather at Petrie Plaza (the merry-go-round) at 12.30pm – look for the AEU flags!
URL:https://www.aeuact.org.au/event/palm-sunday-rally/
LOCATION:Petrie Plaza\, Petrie Plaza\, Canberra\, ACT\, 2601\, Australia
END:VEVENT
END:VCALENDAR